BEGIN:VCALENDAR
VERSION:2.0
PRODID:-//wp-events-plugin.com//7.2.3.1//EN
BEGIN:VEVENT
UID:24@vof.nu
DTSTART:20231116T170000Z
DTEND:20231116T170000Z
DTSTAMP:20231009T182013Z
URL:https://vof.nu/events/torsdag-16-november-kl-1800-ringmarkningen-pa-ge
 tteron-obs-nytt-datum/
SUMMARY:Torsdag 16 november kl 18:00 Ringmärkningen på Getterön Obs! Nyt
 t datum
DESCRIPTION:Varmt välkommen till VOF-huset ikväll! Fåglars flyttning är
  fascinerande och genom ringmärkning kan vi lära oss mer om hur fåglarn
 a rör sig mellan sina häckningsområden och övervintringsområden. Vår
  ringmärkningsverksamheten på Getteröns Fågelstation är en del i det 
 nät av stationer som följer dessa rörelser och ikväll berättar Bo Nie
 lsen om vår verksamhet. Hur gick 2023 och finns det några spännande fyn
 d att berätta om?
END:VEVENT
END:VCALENDAR