BEGIN:VCALENDAR
VERSION:2.0
PRODID:-//wp-events-plugin.com//7.2.3.1//EN
BEGIN:VEVENT
UID:35@vof.nu
DTSTART:20240526T060000Z
DTEND:20240526T073000Z
DTSTAMP:20240518T091322Z
URL:https://vof.nu/events/sondag-26-maj-fagelsang-i-tatortsnara-natur-kloc
 kan-0700-0830/
SUMMARY:Söndag 26 maj Fågelsång i tätortsnära natur klockan 07:00 -08:
 30
DESCRIPTION:Vi ger oss ut i omgivningarna runt Almers skola och brukshundsk
 lubben för att lyssna på sångare. Området har höga naturvärden med m
 ånga arter som vi kan höra sjunga under vår morgonvandring. Ta med fika
 . Samling vid parkering vid Almers skola\, Österängsvägen klockan 07:00
 \n\nKontakt: Bo Nielsen 070-204 19 64\, Per Ola Svensson 070-638 63 50
END:VEVENT
END:VCALENDAR