BEGIN:VCALENDAR
VERSION:2.0
PRODID:-//wp-events-plugin.com//7.2.3.1//EN
BEGIN:VEVENT
UID:30@vof.nu
DTSTART:20240324T090000Z
DTEND:20240324T120000Z
DTSTAMP:20240225T190616Z
URL:https://vof.nu/events/sondag-24-mars-kl-1000-gasslosa-naturreservat/
SUMMARY:Söndag 24 mars kl 10:00 Gässlösa Naturreservat
DESCRIPTION:I denna vackra bokravin leker skuggorna mot trädens nakna stam
 mar i förvårens tid.\n\nFörhoppningsvis får vi denna dag se strömstar
 e\, forsärla\, hackspettar mm. Ta med fika och kikare. Avslutning vid 13.
 00-tiden .\n\nDetta är ett arrangemang vi gör tillsammans med Varbergs N
 aturskyddsförening.\n\nSamling Naturum Getteröns parkering  kl. 10:00 a
 lt. vid Rolfstorp kyrka. kl. 10.20\n\nKontakt: Per Ola Svensson 0706-386 3
 50 eller Gert Andersson 0761-006 874\n\n 
END:VEVENT
END:VCALENDAR