BEGIN:VCALENDAR
VERSION:2.0
PRODID:-//wp-events-plugin.com//7.2.3.1//EN
BEGIN:VEVENT
UID:37@vof.nu
DTSTART:20240922T090000Z
DTEND:20240922T140000Z
DTSTAMP:20240729T140029Z
URL:https://vof.nu/events/sondag-22-september-klockan-10-15-folk-och-fagla
 r-naturum-getteron/
SUMMARY:Söndag 22 september klockan 10–15 Folk och Fåglar Naturum Gette
 rön
DESCRIPTION:Söndag 22 september klockan 10–15 Folk och Fåglar på Gette
 rön\n\nÅter dags för Folk och Fåglar på Getterön och Varbergs Ornito
 logiska förening är med och visar upp vår ringmärkningsverksamhet och 
 hjälper till med fågelguidningar. Det blir en heldag runt naturum med gu
 idade turer\, föreläsningar\, ringmärkningsvisning\, utställningar\, o
 ch barnaktiviteter. För ett mer detaljerat program se www.folkochfåglar.
 se
END:VEVENT
END:VCALENDAR