BEGIN:VCALENDAR
VERSION:2.0
PRODID:-//wp-events-plugin.com//7.2.3.1//EN
BEGIN:VEVENT
UID:31@vof.nu
DTSTART:20240414T090000Z
DTEND:20240414T130000Z
DTSTAMP:20240317T104507Z
URL:https://vof.nu/events/sondag-14-april-1000-1400-vof-huset/
SUMMARY:Söndag 14 april 10:00 -14:00 VOF-huset
DESCRIPTION:Vi ägnar oss åt VOF – huset\, som behöver vår omvårdnad.
  Buskarna runt huset har växt sig för stora och behöver klippas. Har du
  redskap för det så ta med dig. Vi har en att-göra-lista där vi ser va
 d som ska ses över och göras i\, på och runt huset. Det finns alltid n
 ågot som du kan hjälpa till med. Kom när du kan\, någon gång mellan k
 l 9.00 och 14.00. Och ta med kikaren\, man vet aldrig vad som kan dyka upp
  i fågelväg.\n\n&nbsp\;\n\nKontakt Per Ola Svensson 070-638 63 50
END:VEVENT
END:VCALENDAR