BEGIN:VCALENDAR
VERSION:2.0
PRODID:-//wp-events-plugin.com//7.2.3.1//EN
BEGIN:VEVENT
UID:65@vof.nu
DTSTART:20261011T070000Z
DTEND:20261011T090000Z
DTSTAMP:20260211T215338Z
URL:https://vof.nu/events/ringmarkningsvisning-pa-getterons-fagelstation-4
 /
SUMMARY:Ringmärkningsvisning på Getteröns fågelstation
DESCRIPTION:Idag kan du komma och titta på hur vi jobbar med ringmärkning
  på Getteröns fågelstation. Stationen ligger i anslutning till Getterö
 ns Naturum och det är drop-in från 8-10. Ringmärkning är väderberoend
 e och vid regn är visningen inställd.\n\nKontakt Bo Nielsen 070-204 19 6
 4
END:VEVENT
END:VCALENDAR