BEGIN:VCALENDAR
VERSION:2.0
PRODID:-//wp-events-plugin.com//7.2.3.1//EN
BEGIN:VEVENT
UID:49@vof.nu
DTSTART:20250426T090000Z
DTEND:20250426T130000Z
DTSTAMP:20250416T182901Z
URL:https://vof.nu/events/medlemsdag-med-vof-huset-i-fokus/
SUMMARY:Medlemsdag med VOF – huset i fokus
DESCRIPTION:&nbsp\;\n\nVi ägnar oss åt vårt hus\, VOF – huset\, som be
 höver vår omvårdnad. Vi har en att-göra-lista där vi ser vad som ska 
 ses över och göras i\, på och runt huset. Det finns alltid något som d
 u kan hjälpa till med. Obligatorisk anmälan till Per Ola om du vill ha f
 ika\, annars är det bara att dyka upp. Och glöm inte ta med kikaren\, ma
 n vet aldrig vad som kan dyka upp.\n\n&nbsp\;\n\nKontakt Per Ola Svensson 
 070-638 63 50
END:VEVENT
END:VCALENDAR