BEGIN:VCALENDAR
VERSION:2.0
PRODID:-//wp-events-plugin.com//7.2.3.1//EN
BEGIN:VEVENT
UID:33@vof.nu
DTSTART:20240615T203000Z
DTEND:20240615T203000Z
DTSTAMP:20240518T084915Z
URL:https://vof.nu/events/lordag-15-juni-klockan-2130-nattsangare-vof-huse
 t/
SUMMARY:Lördag 15 juni klockan 21:30 Nattsångare VOF-huset
DESCRIPTION:Vi träffas vid VOF-huset för att cykla ut i sommarnatten och 
 lyssna efter nattsångare. Vi cyklar tätortsnära och hittar till platser
  där vi kan höra bl.a. näktergal och kärrsångare och på Getteröns n
 aturreservat kanske vi kan höra blåhaken sjunga.\n\nKontakt: Simon Lindq
 vist 070-975 74 10
END:VEVENT
END:VCALENDAR