BEGIN:VCALENDAR
VERSION:2.0
PRODID:-//wp-events-plugin.com//7.2.3.1//EN
BEGIN:VEVENT
UID:26@vof.nu
DTSTART:20240113T073000Z
DTEND:20240113T073000Z
DTSTAMP:20240104T203139Z
URL:https://vof.nu/events/lordag-13-januari-0830-vi-kickstartar-arslistan-
 2024/
SUMMARY:Lördag 13 januari 08:30 Vi kickstartar årslistan 2024
DESCRIPTION:Årslistorna står på noll och vi ger oss ut för att se vad v
 i kan hitta för fåglar i våra hemmamarker. Vi träffas och startar på 
 Getterön och sen tar vi oss vidare till de platser som kan vara bäst fö
 r dagen. Fika och kläder efter väder gäller och vi hoppas att värsta k
 ylan har lagt sig. Samling 08:30 Naturum Getteröns parkering.\n\nKontakt:
  Simon Lindqvist 070-975 74 10
END:VEVENT
END:VCALENDAR