BEGIN:VCALENDAR
VERSION:2.0
PRODID:-//wp-events-plugin.com//7.2.3.1//EN
BEGIN:VEVENT
UID:2@vof.nu
DTSTART:20230325T043000Z
DTEND:20230325T043000Z
DTSTAMP:20230320T182812Z
URL:https://vof.nu/events/getteron-tidig-morgon-for-att-mota-varens-faglar
 /
SUMMARY:Getterön – Tidig morgon för att möta vårens fåglar
DESCRIPTION:Häng med Mikael Nord ut på Getterön när skådningen är som
  bäst\, dvs när solen går upp. Våren gör snabba framsteg och ute på 
 Getterön är det många fåglar som passerar. Vi är på plats tidigt fö
 r att få de bästa chanserna att uppleva nyanlända fåglar. Vädret avg
 ör hur vi lägger upp skådning och vilken del av Getterön vi satsar på
 . Samling vid parkeringen Getteröns Naturrum.\n\nKontakt: Mikael Nord 070
 -647 17 77
END:VEVENT
END:VCALENDAR