BEGIN:VCALENDAR
VERSION:2.0
PRODID:-//wp-events-plugin.com//7.2.3.1//EN
BEGIN:VEVENT
UID:5@vof.nu
DTSTART:20230508T170000Z
DTEND:20230508T190000Z
DTSTAMP:20230305T052607Z
URL:https://vof.nu/events/faglar-intill-tatorten-utflykt-till-subbefyr/
SUMMARY:Fåglar intill tätorten\, utflykt till Subbefyr.
DESCRIPTION:Tillsammans med Naturskyddsföreningen i Varberg besöker vi om
 rådet kring Subbe fyr. Samling p-platsen Naturum Getterön kl 18. Cyklar 
 eller går ni kom\, till p-platsen vid Kusthotellet Varberg kl 18.15. Arr:
  Naturskyddsföreningen i Varberg och Varbergs Ornitologiska förening\n\n
 Kontakt: Gert Andersson 070-675 80 41
END:VEVENT
END:VCALENDAR