BEGIN:VCALENDAR
VERSION:2.0
PRODID:-//wp-events-plugin.com//7.2.3.1//EN
BEGIN:VEVENT
UID:61@vof.nu
DTSTART:20260212T173000Z
DTEND:20260212T193000Z
DTSTAMP:20260128T192222Z
URL:https://vof.nu/events/faglar-da-nu-och-i-framtiden-innekvall-i-vof-hus
 et/
SUMMARY:Fåglar- då\, nu och i framtiden - Innekväll i VOF-huset
DESCRIPTION:Kjell Andersson från Studiefrämjandet målar en bild av hur f
 ågellivet har förändrats genom tiderna och vad som vi kan förvänta os
 s av framtiden. Som vanligt målar han med breda penslar och balanserar p
 å slak lina med sina förutsägelser. Namn som kommer att nämnas\; Torke
 l Näktergal\, Pehr Osbeck och Gustaf III. Fåglar som kommer att presente
 ras\; mellanspett och styltlöpare!\n\nVarmt välkomna!
END:VEVENT
END:VCALENDAR