BEGIN:VCALENDAR
VERSION:2.0
PRODID:-//wp-events-plugin.com//7.2.3.1//EN
BEGIN:VEVENT
UID:4@vof.nu
DTSTART:20230506T040000Z
DTEND:20230506T120000Z
DTSTAMP:20230305T053138Z
URL:https://vof.nu/events/fageltornskampen-galtaback-och-batafjordens-fage
 ltorn/
SUMMARY:Fågeltornskampen Galtabäck och Båtafjordens fågeltorn
DESCRIPTION:Fågeltornskampen går i korthet ut på att under den lördag s
 om infaller mellan 3 och 9 maj bemanna svenska fågeltorn med lag som ska 
 räkna alla fågelarter som hörs och ses.\n\nEvenemanget är en tävling 
 mellan de svenska fågeltornen samt en landskamp mellan Sverige\, Finland 
 och Danmark.\nVi försöker få ihop två lag om minst 3 deltagare som sk
 ådar från kl 05-13 Tävlingen startar klockan 05.00 på lördagen och av
 slutas klockan 13.00.\n\nLaget ska bestå av 3–8 medlemmar men givetvis 
 kan fler hjälpa till att hitta fåglar. Regelverket säger att minst två
  måste höra\, eller se arten\, för att den ska få räknas (tidigare g
 ällde att alla i laget var tvungna att se arten). Det behöver inte ske s
 imultant på samma fågelindivid utan en enskild lagmedlem som missat en a
 rt kan komplettera senare om arten dyker upp igen.\n\nAnmäl dig till Simo
 n eller Per Ola. För dig som inte kan vara med hela tiden så är det öp
 pet hus för att komma ut och hjälpa våra lag att hålla den västsvensk
 a fanan högt.\n\nKontakt: Simon Lindqvist 070-975 74 10\, Per Ola Svensso
 n 070-638 63 5
END:VEVENT
END:VCALENDAR